BEGIN:VCALENDAR
VERSION:2.0
METHOD:PUBLISH
PRODID:-//Accessible Web Design//My Calendar//http://www.joedolson.com//v//EN';
BEGIN:VEVENT
UID:104-98
LOCATION:
SUMMARY:Christmas In July
DTSTAMP:20240721T100000
ORGANIZER;CN=Roger:MAILTO:rogncher@internode.on.net
DTSTART:20240721T100000
DTEND:20240721T143000
CATEGORIES:Social
URL;VALUE=URI:https://www.tsoasa.com/mc-events/christmas-in-july/?mc_id=104
DESCRIPTION:July 21st Christmas in July run. Meet at Feathers Hotel Carpark 10.00 am for a 10.15 am departure finishing up at the “Old Noarlunga Hotel” 38 Patapinda Road, Old Noarlunga for hearty a-la-carte lunch. Contact Alex (0412 823789) or Sue (0409 675 343) to book in for lunch.
END:VEVENT
END:VCALENDAR