BEGIN:VCALENDAR
VERSION:2.0
METHOD:PUBLISH
PRODID:-//Accessible Web Design//My Calendar//http://www.joedolson.com//v//EN';
BEGIN:VEVENT
UID:109-103
LOCATION:
SUMMARY:Morning Tea Run to Kersbrook
DTSTAMP:20240818T094500
ORGANIZER;CN=Roger:MAILTO:rogncher@internode.on.net
DTSTART:20240818T094500
DTEND:20240818T120000
CATEGORIES:Social
URL;VALUE=URI:https://www.tsoasa.com/mc-events/morning-tea-run-to-kersbrook/?mc_id=109
DESCRIPTION:SUNDAY AUGUST 18TH MORNING TEA RUN Meet Feathers Carpark Greenhill Road 9.45am for 10.00am departure Destination – Kersbrook Hill Wine &amp; Cider South Para Road, Kersbrook Coffee/Tea &amp; Muffin - $6.00 Details – Sue 0428 735 960
END:VEVENT
END:VCALENDAR