BEGIN:VCALENDAR
VERSION:2.0
METHOD:PUBLISH
PRODID:-//Accessible Web Design//My Calendar//http://www.joedolson.com//v//EN';
BEGIN:VEVENT
UID:146-139
LOCATION:
SUMMARY:Mid Week Lunch
DTSTAMP:20251111T001500
ORGANIZER;CN=Roger:MAILTO:rogncher@internode.on.net
DTSTART:20251111T001500
DTEND:20251111T030000
CATEGORIES:Competition
URL;VALUE=URI:https://www.tsoasa.com/mc-events/mid-week-lunch-3/?mc_id=146
DESCRIPTION:Old Noarlunga Hotel - details Laurie and Kaye Placing
END:VEVENT
END:VCALENDAR