BEGIN:VCALENDAR
VERSION:2.0
METHOD:PUBLISH
PRODID:-//Accessible Web Design//My Calendar//http://www.joedolson.com//v//EN';
BEGIN:VEVENT
UID:24-23
LOCATION:Sporting Car Club 51 King William Road  UNLEY SA 5061
SUMMARY:Annual General Meeting
DTSTAMP:20220816T200000
ORGANIZER;CN=Roger:MAILTO:rogncher@internode.on.net
DTSTART:20220816T200000
DTEND:20220816T214500
CATEGORIES:Meetings
URL;VALUE=URI:https://www.tsoasa.com/mc-events/annual-general-meeting/?mc_id=24
DESCRIPTION:This is the Annual General Meeting where executive positions of the TSOA are declared vacant and a new committee voted in. A short General Meeting is held prior to the AGM to deal with the usual business of the club. Come along and support those who are prepared to stand for office, or maybe offer&hellip;
END:VEVENT
END:VCALENDAR