BEGIN:VCALENDAR
VERSION:2.0
METHOD:PUBLISH
PRODID:-//Accessible Web Design//My Calendar//http://www.joedolson.com//v//EN';
BEGIN:VEVENT
UID:30-29
LOCATION:
SUMMARY:Run to St Kilda Tramway Museum
DTSTAMP:20220410T100000
ORGANIZER;CN=Roger:MAILTO:rogncher@internode.on.net
DTSTART:20220410T100000
DTEND:20220410T143000
CATEGORIES:Social
URL;VALUE=URI:https://www.tsoasa.com/mc-events/run-to-st-kilda-tramway-museum/?mc_id=30
DESCRIPTION:Meet at Villi's Cafe, 426 Main North Road, Blair Athol at 10.00 am for a 10.15 departure. Cost for entry to the St Kilda Tramway Museum, including a organised tour, is $7 per person. BYO Lunch and Drinks and everything else required for a picnic. RSVP to Bill or Margie 0438 836 837 to confirm&hellip;
END:VEVENT
END:VCALENDAR