BEGIN:VCALENDAR
VERSION:2.0
METHOD:PUBLISH
PRODID:-//Accessible Web Design//My Calendar//http://www.joedolson.com//v//EN';
BEGIN:VEVENT
UID:38-35
LOCATION:
SUMMARY:After Xmas Run
DTSTAMP:20221228T100000
ORGANIZER;CN=Roger:MAILTO:rogncher@internode.on.net
DTSTART:20221228T100000
DTEND:20221228T143000
CATEGORIES:Social
URL;VALUE=URI:https://www.tsoasa.com/mc-events/after-xmas-run/?mc_id=38
DESCRIPTION:After Christmas Run Wednesday 28th December Meet: Café Villi’s Main North Road, Blair Athol Time: 10.00am Run through the hills to the Charleston Hotel for Lunch Enquiries to Lisa 0411030523
END:VEVENT
END:VCALENDAR