BEGIN:VCALENDAR
VERSION:2.0
METHOD:PUBLISH
PRODID:-//Accessible Web Design//My Calendar//http://www.joedolson.com//v//EN';
BEGIN:VEVENT
UID:54-50
LOCATION:Sporting Car Club 51 King William Road  UNLEY SA 5061
SUMMARY:Annual General Meeting
DTSTAMP:20230815T194500
ORGANIZER;CN=Roger:MAILTO:rogncher@internode.on.net
DTSTART:20230815T194500
DTEND:20230815T214500
CATEGORIES:General, Meetings
URL;VALUE=URI:https://www.tsoasa.com/mc-events/annual-general-meeting-2/?mc_id=54
DESCRIPTION:This is the Annual General Meeting where executive positions of the TSOA are declared vacant and a new committee voted in. A short General Meeting is held prior to the AGM to deal with the usual business of the club. Come along and support those who are prepared to stand for office, or maybe offer&hellip;
END:VEVENT
END:VCALENDAR