BEGIN:VCALENDAR
VERSION:2.0
METHOD:PUBLISH
PRODID:-//Accessible Web Design//My Calendar//http://www.joedolson.com//v//EN';
BEGIN:VEVENT
UID:55-13
LOCATION:Mallala Motorsport Park, Mallala
SUMMARY:MSCA 6-Hour Regularity Relay
DTSTAMP:20230507
ORGANIZER;CN=Roger:MAILTO:rogncher@internode.on.net
DTSTART:20230507
DTEND:20230508
CATEGORIES:Competition
URL;VALUE=URI:https://www.tsoasa.com/mc-events/msca-6-hour-regularity-relay/?mc_id=55
DESCRIPTION:This annual event held at Mallala Motorsport Park is keenly contested by teams of up to 6 car / driver combinations where the most consistent performance over a full 6 hours of track time determines the winners of the prestigious Peter Hall Memorial Trophy. TSOA fields a team that requires back up support from volunteers&hellip;
X-FUNAMBOL-ALLDAY: 1
X-MICROSOFT-CDO-ALLDAYEVENT: TRUE

END:VEVENT
END:VCALENDAR