BEGIN:VCALENDAR
VERSION:2.0
METHOD:PUBLISH
PRODID:-//Accessible Web Design//My Calendar//http://www.joedolson.com//v//EN';
BEGIN:VEVENT
UID:64-59
LOCATION:
SUMMARY:Breakfast Run
DTSTAMP:20230402T100000
ORGANIZER;CN=Roger:MAILTO:rogncher@internode.on.net
DTSTART:20230402T100000
DTEND:20230402T120000
CATEGORIES:Social
URL;VALUE=URI:https://www.tsoasa.com/mc-events/breakfast-run/?mc_id=64
DESCRIPTION:Details t.b.a
END:VEVENT
END:VCALENDAR