BEGIN:VCALENDAR
VERSION:2.0
METHOD:PUBLISH
PRODID:-//Accessible Web Design//My Calendar//http://www.joedolson.com//v//EN';
BEGIN:VEVENT
UID:67-62
LOCATION:
SUMMARY:Informal Lunch
DTSTAMP:20230503T123000
ORGANIZER;CN=Roger:MAILTO:rogncher@internode.on.net
DTSTART:20230503T123000
DTEND:20230503T150000
CATEGORIES:Social
URL;VALUE=URI:https://www.tsoasa.com/mc-events/informal-lunch-3/?mc_id=67
DESCRIPTION:Make your own way to the Meadows Hotel and enjoy a wonderful country pub lunch from 12.30 pm with like minded Triumph enthusiasts. Contact Lawrie or Kaye Placing if intending to go . . . Ph 0407 286 194
END:VEVENT
END:VCALENDAR