BEGIN:VCALENDAR
VERSION:2.0
METHOD:PUBLISH
PRODID:-//Accessible Web Design//My Calendar//http://www.joedolson.com//v//EN';
BEGIN:VEVENT
UID:75-69
LOCATION:
SUMMARY:Mid Week Run
DTSTAMP:20230907T122900
ORGANIZER;CN=Roger:MAILTO:rogncher@internode.on.net
DTSTART:20230907T122900
DTEND:20230907T143000
CATEGORIES:Social
URL;VALUE=URI:https://www.tsoasa.com/mc-events/mid-week-run-3/?mc_id=75
DESCRIPTION:Thursday, September 7th    Midweek Lunch – Aussie Hotel, Hackham 12.30pm Contact Lawrie/Kay 0407 286 194  if  attending &nbsp;
END:VEVENT
END:VCALENDAR