BEGIN:VCALENDAR
VERSION:2.0
METHOD:PUBLISH
PRODID:-//Accessible Web Design//My Calendar//http://www.joedolson.com//v//EN';
BEGIN:VEVENT
UID:77-71
LOCATION:
SUMMARY:Sunday Run to Kenton Valley Cherries
DTSTAMP:20231203T090000
ORGANIZER;CN=Roger:MAILTO:rogncher@internode.on.net
DTSTART:20231203T090000
DTEND:20231203T113000
CATEGORIES:Social
URL;VALUE=URI:https://www.tsoasa.com/mc-events/sunday-run-to-kenton-valley-cherries/?mc_id=77
DESCRIPTION:December 3rd     Run to Kenton Valley Cherries - meet Burnside Town Hall 9.00am Morning Tea and Cherry purchases at the Cherry Cafe
END:VEVENT
END:VCALENDAR