BEGIN:VCALENDAR
VERSION:2.0
METHOD:PUBLISH
PRODID:-//Accessible Web Design//My Calendar//http://www.joedolson.com//v//EN';
BEGIN:VEVENT
UID:78-72
LOCATION:
SUMMARY:Annual "APRES" Run
DTSTAMP:20231228T103000
ORGANIZER;CN=Roger:MAILTO:rogncher@internode.on.net
DTSTART:20231228T103000
DTEND:20231228T143000
CATEGORIES:Social
URL;VALUE=URI:https://www.tsoasa.com/mc-events/annual-apres-run/?mc_id=78
DESCRIPTION:Traditionally held between Xmas and New Year, the "Apres" Run is for those of us with some time to spare at this time of year whereby, on a lovely summer's day, we can enjoy our Triumphs for a late morning drive with a lunch destination and discussions about what Santa left for us a few&hellip;
END:VEVENT
END:VCALENDAR