BEGIN:VCALENDAR
VERSION:2.0
METHOD:PUBLISH
PRODID:-//Accessible Web Design//My Calendar//http://www.joedolson.com//v//EN';
BEGIN:VEVENT
UID:88-82
LOCATION:
SUMMARY:Australia Day Ice Cream Run
DTSTAMP:20240126T123000
ORGANIZER;CN=Roger:MAILTO:rogncher@internode.on.net
DTSTART:20240126T123000
DTEND:20240126T150000
CATEGORIES:Social
URL;VALUE=URI:https://www.tsoasa.com/mc-events/australia-day-ice-cream-run/?mc_id=88
DESCRIPTION:This year we are trying something different, incorporating the mid-week lunch and the Ice Cream Run as well as Australia Day, at Kaye and Lawrie Placing’s house, 10 Woodhall Drive, Happy Valley from 12.30 pm. BYO picnic lunch, drinks and chairs etc. Kaye and Lawrie will provide Ice Creams for all to enjoy. What's not&hellip;
END:VEVENT
END:VCALENDAR