BEGIN:VCALENDAR
VERSION:2.0
METHOD:PUBLISH
PRODID:-//Accessible Web Design//My Calendar//http://www.joedolson.com//v//EN';
BEGIN:VEVENT
UID:101-95
LOCATION:
SUMMARY:Mid Week Run
DTSTAMP:20240509T123000
ORGANIZER;CN=Roger:MAILTO:rogncher@internode.on.net
DTSTART:20240509T123000
DTEND:20240509T150000
CATEGORIES:Social
URL;VALUE=URI:https://www.tsoasa.com/mc-events/mid-week-run-4/?mc_id=101
DESCRIPTION:THE NEXT MIDWEEK RUN Thursday 9th May 2024 The Rex Hotel 12:30pm 172 Richmond Road, Marleston If you’ve read this please come. The more the merrier Ring Lawrie and let him know you’re coming. A table has been reserved for the Triumph Car Club. See you there! That place with nice cars is just across&hellip;
END:VEVENT
END:VCALENDAR