BEGIN:VCALENDAR
VERSION:2.0
METHOD:PUBLISH
PRODID:-//Accessible Web Design//My Calendar//http://www.joedolson.com//v//EN';
BEGIN:VEVENT
UID:177-159
LOCATION:
SUMMARY:TSOA WEEKENDER
DTSTAMP:20260515
ORGANIZER;CN=Roger:MAILTO:rogncher@internode.on.net
DTSTART:20260515
DTEND:20260518
CATEGORIES:Social
URL;VALUE=URI:https://www.tsoasa.com/mc-events/tsoa-weekender/?mc_id=177
DESCRIPTION:The 2026 Weekender to be held at the Barossa Valley. Please refer to the flyer for more details or contact Margie on 0438 836 837 if you wish to attend
X-FUNAMBOL-ALLDAY: 1
X-MICROSOFT-CDO-ALLDAYEVENT: TRUE

END:VEVENT
END:VCALENDAR