BEGIN:VCALENDAR
VERSION:2.0
METHOD:PUBLISH
PRODID:-//Accessible Web Design//My Calendar//http://www.joedolson.com//v//EN';
BEGIN:VEVENT
UID:178-160
LOCATION:
SUMMARY:Rezz Hotel Run
DTSTAMP:20260614
ORGANIZER;CN=Roger:MAILTO:rogncher@internode.on.net
DTSTART:20260614
DTEND:20260615
CATEGORIES:Competition
URL;VALUE=URI:https://www.tsoasa.com/mc-events/rezz-hotel-run/?mc_id=178
DESCRIPTION:Rezz Hotel Run starting from Feathers Hotel. (Details TBA) Contact Charlie Onody on 0417 816 078.
X-FUNAMBOL-ALLDAY: 1
X-MICROSOFT-CDO-ALLDAYEVENT: TRUE

END:VEVENT
END:VCALENDAR