BEGIN:VCALENDAR
VERSION:2.0
METHOD:PUBLISH
PRODID:-//Accessible Web Design//My Calendar//http://www.joedolson.com//v//EN';
BEGIN:VEVENT
UID:29-28
LOCATION:
SUMMARY:DAY OF TRIUMPH
DTSTAMP:20220403T103000
ORGANIZER;CN=Ian Rigby:MAILTO:tara1331@bigpond.net.au
DTSTART:20220403T103000
DTEND:20220403T150000
CATEGORIES:General, Social
URL;VALUE=URI:https://www.tsoasa.com/mc-events/day-of-triumph/?mc_id=29
DESCRIPTION:Civic Park, opposite Tea Tree Plaza. Gates open 8.30 am This is your chance to show off your pride and joy amongst the company of fellow club members and Triumph enthusiasts. No need to enter into the competition side of things, but you are encouraged to do so. There is the Concours d'Elegance and the&hellip;
END:VEVENT
END:VCALENDAR