BEGIN:VCALENDAR
VERSION:2.0
METHOD:PUBLISH
PRODID:-//Accessible Web Design//My Calendar//http://www.joedolson.com//v//EN';
BEGIN:VEVENT
UID:33-32
LOCATION:
SUMMARY:Mid Week Run
DTSTAMP:20220518T100000
ORGANIZER;CN=Roger:MAILTO:rogncher@internode.on.net
DTSTART:20220518T100000
DTEND:20220518T143000
CATEGORIES:General
URL;VALUE=URI:https://www.tsoasa.com/mc-events/mid-week-run/?mc_id=33
DESCRIPTION:Apparently, details are in FasTRak but not sent to the website manager for inclusion here . . . will follow up
END:VEVENT
END:VCALENDAR