BEGIN:VCALENDAR
VERSION:2.0
METHOD:PUBLISH
PRODID:-//Accessible Web Design//My Calendar//http://www.joedolson.com//v//EN';
BEGIN:VEVENT
UID:73-67
LOCATION:
SUMMARY:Morning Tea Run
DTSTAMP:20230723T093000
ORGANIZER;CN=Roger:MAILTO:rogncher@internode.on.net
DTSTART:20230723T093000
DTEND:20230723T120000
CATEGORIES:Social
URL;VALUE=URI:https://www.tsoasa.com/mc-events/morning-tea-run/?mc_id=73
DESCRIPTION:Morning tea run to Gumeracha. Sunday July 23rd 2023  Meet: Burnside Town Hall Time: 9.30am Enjoy a drive through the hills, and have morning tea at the Big Rocking Horse Well known for their Scones! Bill/Margie 0438836837
END:VEVENT
END:VCALENDAR