BEGIN:VCALENDAR
VERSION:2.0
METHOD:PUBLISH
PRODID:-//Accessible Web Design//My Calendar//http://www.joedolson.com//v//EN';
BEGIN:VEVENT
UID:80-74
LOCATION:
SUMMARY:MSCA 50th ANNIVERSARY PICNIC
DTSTAMP:20240225T110000
ORGANIZER;CN=Roger:MAILTO:rogncher@internode.on.net
DTSTART:20240225T110000
DTEND:20240225T150000
CATEGORIES:General
URL;VALUE=URI:https://www.tsoasa.com/mc-events/msca-50th-anniversary-picnic/?mc_id=80
DESCRIPTION:It has been 50 years since the establishment of the MSCA for the purpose of providing an entry level motorsport  activity opportunity for members of affiliated clubs, mostly established marques such as MG, Triumph, Healey, Alfa, Jaguar, Mini, Datsun etc. There are currently 18 clubs affiliated with the MSCA here in South Australia. To celebrate&hellip;
END:VEVENT
END:VCALENDAR